BEGIN:VCALENDAR
VERSION:2.0
PRODID:-//Obst- und Gartenbauverein Emtmannsberg - ECPv6.15.20//NONSGML v1.0//EN
CALSCALE:GREGORIAN
METHOD:PUBLISH
X-WR-CALNAME:Obst- und Gartenbauverein Emtmannsberg
X-ORIGINAL-URL:https://ogv-emtmannsberg.de
X-WR-CALDESC:Veranstaltungen für Obst- und Gartenbauverein Emtmannsberg
REFRESH-INTERVAL;VALUE=DURATION:PT1H
X-Robots-Tag:noindex
X-PUBLISHED-TTL:PT1H
BEGIN:VTIMEZONE
TZID:Europe/Berlin
BEGIN:DAYLIGHT
TZOFFSETFROM:+0100
TZOFFSETTO:+0200
TZNAME:CEST
DTSTART:20240331T010000
END:DAYLIGHT
BEGIN:STANDARD
TZOFFSETFROM:+0200
TZOFFSETTO:+0100
TZNAME:CET
DTSTART:20241027T010000
END:STANDARD
BEGIN:DAYLIGHT
TZOFFSETFROM:+0100
TZOFFSETTO:+0200
TZNAME:CEST
DTSTART:20250330T010000
END:DAYLIGHT
BEGIN:STANDARD
TZOFFSETFROM:+0200
TZOFFSETTO:+0100
TZNAME:CET
DTSTART:20251026T010000
END:STANDARD
BEGIN:DAYLIGHT
TZOFFSETFROM:+0100
TZOFFSETTO:+0200
TZNAME:CEST
DTSTART:20260329T010000
END:DAYLIGHT
BEGIN:STANDARD
TZOFFSETFROM:+0200
TZOFFSETTO:+0100
TZNAME:CET
DTSTART:20261025T010000
END:STANDARD
END:VTIMEZONE
BEGIN:VEVENT
DTSTART;TZID=Europe/Berlin:20250605T170000
DTEND;TZID=Europe/Berlin:20250605T190000
DTSTAMP:20260421T104757
CREATED:20250528T161544Z
LAST-MODIFIED:20250528T161654Z
UID:1366-1749142800-1749150000@ogv-emtmannsberg.de
SUMMARY:Pflegeaktion Streuobstwiese
DESCRIPTION:
URL:https://ogv-emtmannsberg.de/event/pflegeaktion-streuobstwiese/
LOCATION:Streuobstwiese OGV Emtmannsberg
ORGANIZER;CN="OGV Emtmannsberg":MAILTO:info@ogv-emtmannsberg.de
END:VEVENT
BEGIN:VEVENT
DTSTART;TZID=Europe/Berlin:20250614T100000
DTEND;TZID=Europe/Berlin:20250614T120000
DTSTAMP:20260421T104758
CREATED:20250526T161814Z
LAST-MODIFIED:20250526T161814Z
UID:1351-1749895200-1749902400@ogv-emtmannsberg.de
SUMMARY:Informativer Spaziergang zu den Highlights des OGV mit Imbiß
DESCRIPTION:
URL:https://ogv-emtmannsberg.de/event/informativer-spaziergang-zu-den-highlights-des-ogv-mit-imbiss/
LOCATION:Dorfplatz Emtmannsberg\, Dorfstraße\, Emtmannsberg\, Bayern\, 95517\, Germany
ORGANIZER;CN="OGV Emtmannsberg":MAILTO:info@ogv-emtmannsberg.de
END:VEVENT
END:VCALENDAR