BEGIN:VCALENDAR
VERSION:2.0
PRODID:-//Obst- und Gartenbauverein Emtmannsberg - ECPv6.15.20//NONSGML v1.0//EN
CALSCALE:GREGORIAN
METHOD:PUBLISH
X-WR-CALNAME:Obst- und Gartenbauverein Emtmannsberg
X-ORIGINAL-URL:https://ogv-emtmannsberg.de
X-WR-CALDESC:Veranstaltungen für Obst- und Gartenbauverein Emtmannsberg
REFRESH-INTERVAL;VALUE=DURATION:PT1H
X-Robots-Tag:noindex
X-PUBLISHED-TTL:PT1H
BEGIN:VTIMEZONE
TZID:Europe/Berlin
BEGIN:DAYLIGHT
TZOFFSETFROM:+0100
TZOFFSETTO:+0200
TZNAME:CEST
DTSTART:20230326T010000
END:DAYLIGHT
BEGIN:STANDARD
TZOFFSETFROM:+0200
TZOFFSETTO:+0100
TZNAME:CET
DTSTART:20231029T010000
END:STANDARD
BEGIN:DAYLIGHT
TZOFFSETFROM:+0100
TZOFFSETTO:+0200
TZNAME:CEST
DTSTART:20240331T010000
END:DAYLIGHT
BEGIN:STANDARD
TZOFFSETFROM:+0200
TZOFFSETTO:+0100
TZNAME:CET
DTSTART:20241027T010000
END:STANDARD
BEGIN:DAYLIGHT
TZOFFSETFROM:+0100
TZOFFSETTO:+0200
TZNAME:CEST
DTSTART:20250330T010000
END:DAYLIGHT
BEGIN:STANDARD
TZOFFSETFROM:+0200
TZOFFSETTO:+0100
TZNAME:CET
DTSTART:20251026T010000
END:STANDARD
END:VTIMEZONE
BEGIN:VEVENT
DTSTART;TZID=Europe/Berlin:20241214T100000
DTEND;TZID=Europe/Berlin:20241214T120000
DTSTAMP:20260421T014728
CREATED:20230117T162838Z
LAST-MODIFIED:20241205T093401Z
UID:1062-1734170400-1734177600@ogv-emtmannsberg.de
SUMMARY:Weihnachtsbaumaktion in Zusammenarbeit mit den Bayerischen Staatsforsten
DESCRIPTION:Weihnachtsbaum selbst schlagen direkt im Staatswald  – Treffpunkt: Parkplatz am SCE-Sportheim
URL:https://ogv-emtmannsberg.de/event/weihnachtsbaumaktion-in-zusammenarbeit-mit-den-bayerischen-staatsforsten/
LOCATION:Bayern
END:VEVENT
END:VCALENDAR