BEGIN:VCALENDAR
VERSION:2.0
PRODID:-//Obst- und Gartenbauverein Emtmannsberg - ECPv6.15.20//NONSGML v1.0//EN
CALSCALE:GREGORIAN
METHOD:PUBLISH
X-WR-CALNAME:Obst- und Gartenbauverein Emtmannsberg
X-ORIGINAL-URL:https://ogv-emtmannsberg.de
X-WR-CALDESC:Veranstaltungen für Obst- und Gartenbauverein Emtmannsberg
REFRESH-INTERVAL;VALUE=DURATION:PT1H
X-Robots-Tag:noindex
X-PUBLISHED-TTL:PT1H
BEGIN:VTIMEZONE
TZID:Europe/Berlin
BEGIN:DAYLIGHT
TZOFFSETFROM:+0100
TZOFFSETTO:+0200
TZNAME:CEST
DTSTART:20230326T010000
END:DAYLIGHT
BEGIN:STANDARD
TZOFFSETFROM:+0200
TZOFFSETTO:+0100
TZNAME:CET
DTSTART:20231029T010000
END:STANDARD
BEGIN:DAYLIGHT
TZOFFSETFROM:+0100
TZOFFSETTO:+0200
TZNAME:CEST
DTSTART:20240331T010000
END:DAYLIGHT
BEGIN:STANDARD
TZOFFSETFROM:+0200
TZOFFSETTO:+0100
TZNAME:CET
DTSTART:20241027T010000
END:STANDARD
BEGIN:DAYLIGHT
TZOFFSETFROM:+0100
TZOFFSETTO:+0200
TZNAME:CEST
DTSTART:20250330T010000
END:DAYLIGHT
BEGIN:STANDARD
TZOFFSETFROM:+0200
TZOFFSETTO:+0100
TZNAME:CET
DTSTART:20251026T010000
END:STANDARD
END:VTIMEZONE
BEGIN:VEVENT
DTSTART;TZID=Europe/Berlin:20240914T170000
DTEND;TZID=Europe/Berlin:20240914T235900
DTSTAMP:20260421T114538
CREATED:20240823T175146Z
LAST-MODIFIED:20240823T175146Z
UID:1289-1726333200-1726358340@ogv-emtmannsberg.de
SUMMARY:Knoblauchfest 2024
DESCRIPTION:
URL:https://ogv-emtmannsberg.de/event/knoblauchfest-2024/
LOCATION:Gemeindezentrum Emtmannsberg\, Dorfstraße 84\, Emtmannsberg\, Bayern\, 95517\, Deutschland
END:VEVENT
END:VCALENDAR